BEGIN:VCALENDAR
VERSION:2.0
PRODID:-//wp-events-plugin.com//7.2.3.1//EN
TZID:Europe/Helsinki
X-WR-TIMEZONE:Europe/Helsinki
BEGIN:VEVENT
UID:14@hyvinvointitapahtumat.fi
DTSTART;TZID=Europe/Helsinki:20260513T170000
DTEND;TZID=Europe/Helsinki:20260513T201500
DTSTAMP:20251217T193257Z
URL:https://www.hyvinvointitapahtumat.fi/tapahtumat/palautumisharjoituksia
 -luonnossa-tyopaja-nokialla-13-5-2026/
SUMMARY:Palautumisharjoituksia luonnossa - työpaja Nokialla 13.5.2026
DESCRIPTION:Palautumisharjoituksia luonnossa työpaja sopii kaikille\, jotk
 a kaipaavat rauhoittumista\, hermoston elpymistä ja luonnon voimauttavaa 
 vaikutusta.
ATTACH;FMTTYPE=image/jpeg:https://www.hyvinvointitapahtumat.fi/wp-content/
 uploads/2025/12/Kopio-Pirkan-opiston-kurssit-kevatkaudelle-2026-julkaistu-
 3.jpg
CATEGORIES:Työpajat
LOCATION:Alisenjärven alue\, Pinsiöntie\, Nokia\, Suomi
X-APPLE-STRUCTURED-LOCATION;VALUE=URI;X-ADDRESS=Pinsiöntie\, Nokia\, Suomi
 ;X-APPLE-RADIUS=100;X-TITLE=Alisenjärven alue:geo:0,0
END:VEVENT
BEGIN:VTIMEZONE
TZID:Europe/Helsinki
X-LIC-LOCATION:Europe/Helsinki
BEGIN:DAYLIGHT
DTSTART:20260329T040000
TZOFFSETFROM:+0200
TZOFFSETTO:+0300
TZNAME:EEST
END:DAYLIGHT
END:VTIMEZONE
END:VCALENDAR