BEGIN:VCALENDAR
VERSION:2.0
PRODID:-//wp-events-plugin.com//7.2.3.1//EN
TZID:Europe/Helsinki
X-WR-TIMEZONE:Europe/Helsinki
BEGIN:VEVENT
UID:11@hyvinvointitapahtumat.fi
DTSTART;TZID=Europe/Helsinki:20260210T170000
DTEND;TZID=Europe/Helsinki:20260210T201500
DTSTAMP:20251217T191109Z
URL:https://www.hyvinvointitapahtumat.fi/tapahtumat/stressinhallinta-ja-pa
 lautuminen-arjessa-tyopaja-10-2-2026-pirkkalassa/
SUMMARY:Stressinhallinta ja palautuminen arjessa -työpaja 10.2.2026 Pirkka
 lassa
DESCRIPTION:Stressinhallinta ja palautuminen arjessa -työpaja opettaa käy
 tännön keinoja tasapainottaa hermostoa ja lisätä hyvinvointia.
ATTACH;FMTTYPE=image/jpeg:https://www.hyvinvointitapahtumat.fi/wp-content/
 uploads/2025/12/Kopio-Pirkan-opiston-kurssit-kevatkaudelle-2026-julkaistu.
 jpg
CATEGORIES:Työpajat
LOCATION:Nuolialan päiväkoti\, Killonvainiontie 2\, Pirkkala\, Suomi
X-APPLE-STRUCTURED-LOCATION;VALUE=URI;X-ADDRESS=Killonvainiontie 2\, Pirkka
 la\, Suomi;X-APPLE-RADIUS=100;X-TITLE=Nuolialan päiväkoti:geo:0,0
END:VEVENT
BEGIN:VTIMEZONE
TZID:Europe/Helsinki
X-LIC-LOCATION:Europe/Helsinki
BEGIN:STANDARD
DTSTART:20251026T030000
TZOFFSETFROM:+0300
TZOFFSETTO:+0200
TZNAME:EET
END:STANDARD
END:VTIMEZONE
END:VCALENDAR